BEGIN:VCALENDAR
VERSION:2.0
PRODID:-//Raleigh North Christian Center | Raleigh, North Carolina - ECPv6.15.20//NONSGML v1.0//EN
CALSCALE:GREGORIAN
METHOD:PUBLISH
X-ORIGINAL-URL:https://www.rncconline.org
X-WR-CALDESC:Events for Raleigh North Christian Center | Raleigh, North Carolina
REFRESH-INTERVAL;VALUE=DURATION:PT1H
X-Robots-Tag:noindex
X-PUBLISHED-TTL:PT1H
BEGIN:VTIMEZONE
TZID:America/New_York
BEGIN:DAYLIGHT
TZOFFSETFROM:-0500
TZOFFSETTO:-0400
TZNAME:EDT
DTSTART:20240310T070000
END:DAYLIGHT
BEGIN:STANDARD
TZOFFSETFROM:-0400
TZOFFSETTO:-0500
TZNAME:EST
DTSTART:20241103T060000
END:STANDARD
BEGIN:DAYLIGHT
TZOFFSETFROM:-0500
TZOFFSETTO:-0400
TZNAME:EDT
DTSTART:20250309T070000
END:DAYLIGHT
BEGIN:STANDARD
TZOFFSETFROM:-0400
TZOFFSETTO:-0500
TZNAME:EST
DTSTART:20251102T060000
END:STANDARD
BEGIN:DAYLIGHT
TZOFFSETFROM:-0500
TZOFFSETTO:-0400
TZNAME:EDT
DTSTART:20260308T070000
END:DAYLIGHT
BEGIN:STANDARD
TZOFFSETFROM:-0400
TZOFFSETTO:-0500
TZNAME:EST
DTSTART:20261101T060000
END:STANDARD
END:VTIMEZONE
BEGIN:VEVENT
DTSTART;VALUE=DATE:20250302
DTEND;VALUE=DATE:20250318
DTSTAMP:20260422T135654
CREATED:20250302T153121Z
LAST-MODIFIED:20250302T153639Z
UID:16900-1740873600-1742255999@www.rncconline.org
SUMMARY:Parking Lot Volunteers Needed
DESCRIPTION:RNCC Youth: Fun in the Sun\n				 \n				\n			\n			\n				\n				\n				\n				\n				\n				\n				\n				\n				\n				JOIN THE TEAM! \nThe RNCC Parking Lot Ministry is looking for volunteers to help keep things running smoothly\, especially with two services.\nAs the first faces people see when they arrive\, you’ll play a key role in making sure everything flows effortlessly and everyone gets in and out quickly. By joining this team\, you’ll help set the tone for an amazing experience from the moment people arrive. \n  \n			\n				SIGN UP
URL:https://www.rncconline.org/event/bow-mime-volunteers-needed-2/
CATEGORIES:Volunteer
ATTACH;FMTTYPE=image/png:https://www.rncconline.org/wp-content/uploads/2025/03/RNCC-Parking-Lot-Volunteers-Needed-Screen-1.png
END:VEVENT
END:VCALENDAR