BEGIN:VCALENDAR
VERSION:2.0
PRODID:-//Raleigh North Christian Center | Raleigh, North Carolina - ECPv6.15.20//NONSGML v1.0//EN
CALSCALE:GREGORIAN
METHOD:PUBLISH
X-WR-CALNAME:Raleigh North Christian Center | Raleigh, North Carolina
X-ORIGINAL-URL:https://www.rncconline.org
X-WR-CALDESC:Events for Raleigh North Christian Center | Raleigh, North Carolina
REFRESH-INTERVAL;VALUE=DURATION:PT1H
X-Robots-Tag:noindex
X-PUBLISHED-TTL:PT1H
BEGIN:VTIMEZONE
TZID:America/New_York
BEGIN:DAYLIGHT
TZOFFSETFROM:-0500
TZOFFSETTO:-0400
TZNAME:EDT
DTSTART:20240310T070000
END:DAYLIGHT
BEGIN:STANDARD
TZOFFSETFROM:-0400
TZOFFSETTO:-0500
TZNAME:EST
DTSTART:20241103T060000
END:STANDARD
BEGIN:DAYLIGHT
TZOFFSETFROM:-0500
TZOFFSETTO:-0400
TZNAME:EDT
DTSTART:20250309T070000
END:DAYLIGHT
BEGIN:STANDARD
TZOFFSETFROM:-0400
TZOFFSETTO:-0500
TZNAME:EST
DTSTART:20251102T060000
END:STANDARD
BEGIN:DAYLIGHT
TZOFFSETFROM:-0500
TZOFFSETTO:-0400
TZNAME:EDT
DTSTART:20260308T070000
END:DAYLIGHT
BEGIN:STANDARD
TZOFFSETFROM:-0400
TZOFFSETTO:-0500
TZNAME:EST
DTSTART:20261101T060000
END:STANDARD
END:VTIMEZONE
BEGIN:VEVENT
DTSTART;TZID=America/New_York:20250415T190000
DTEND;TZID=America/New_York:20250415T203000
DTSTAMP:20260424T075457
CREATED:20250107T161621Z
LAST-MODIFIED:20250413T114021Z
UID:16664-1744743600-1744749000@www.rncconline.org
SUMMARY:Discovering Membership
DESCRIPTION:RNCC Youth: Fun in the Sun\n				\n				\n			\n			\n				\n				\n				\n				\n				\n				\n				\n				\n				\n				Discovering Membership – Tues. April 15 7:00pm \nRNCC is good ground and we would like for you to be the newest member of our family! If you’d like to learn more about us or become a member of RNCC\, join the Discovering Membership class on Tuesday\,April 15 at 7pm. This virtual session will equip you with the information you need to be a part of Raleigh North Christian Center. \n			\n				\n				\n				\n				\n				\n				\n				\n					\n				\n				\n				\n				\n				\n				\n				\n				\n				\n				\n				\n				\n				\n				\n				\n				\n				\n				\n				\n					RNCC Youth: Fun in the Sun\n				 \n				\n			\n			\n				\n				\n				\n				\n				\n				\n				\n				\n				\n				Join us for a joyful and relaxed morning where kids can play\, laugh\, and make new friends—while parents connect and build community with one another. \n📍 Location: Forest Ridge Park (Shelter 1)\, Wake Forest🕙 Time: 10:00 AM – 12:00 PM🎟️ FREE Admission – RSVP Required👶🏽 Ages: 0–11 \nWe can’t wait to see you there! \n			\n				REGISTER\n			\n			\n				\n				\n				\n				\n			\n				\n				\n			\n\n				\n			\n			\n				\n				\n				\n				\n			\n				\n				\n			\n				\n				\n				\n				\n				\n				\n				\n				\n				\n				\n				\n				\n				\n			\n				\n				\n				\n				\n				\n								\n					\n												← Night of Prayer
URL:https://www.rncconline.org/event/discovering-membership/
ATTACH;FMTTYPE=image/jpeg:https://www.rncconline.org/wp-content/uploads/2025/01/RNCC-Discovering-Membership-Screen-Apr-15.jpg
END:VEVENT
END:VCALENDAR