BEGIN:VCALENDAR
VERSION:2.0
PRODID:-//Raleigh North Christian Center | Raleigh, North Carolina - ECPv6.15.20//NONSGML v1.0//EN
CALSCALE:GREGORIAN
METHOD:PUBLISH
X-ORIGINAL-URL:https://www.rncconline.org
X-WR-CALDESC:Events for Raleigh North Christian Center | Raleigh, North Carolina
REFRESH-INTERVAL;VALUE=DURATION:PT1H
X-Robots-Tag:noindex
X-PUBLISHED-TTL:PT1H
BEGIN:VTIMEZONE
TZID:America/New_York
BEGIN:DAYLIGHT
TZOFFSETFROM:-0500
TZOFFSETTO:-0400
TZNAME:EDT
DTSTART:20240310T070000
END:DAYLIGHT
BEGIN:STANDARD
TZOFFSETFROM:-0400
TZOFFSETTO:-0500
TZNAME:EST
DTSTART:20241103T060000
END:STANDARD
BEGIN:DAYLIGHT
TZOFFSETFROM:-0500
TZOFFSETTO:-0400
TZNAME:EDT
DTSTART:20250309T070000
END:DAYLIGHT
BEGIN:STANDARD
TZOFFSETFROM:-0400
TZOFFSETTO:-0500
TZNAME:EST
DTSTART:20251102T060000
END:STANDARD
BEGIN:DAYLIGHT
TZOFFSETFROM:-0500
TZOFFSETTO:-0400
TZNAME:EDT
DTSTART:20260308T070000
END:DAYLIGHT
BEGIN:STANDARD
TZOFFSETFROM:-0400
TZOFFSETTO:-0500
TZNAME:EST
DTSTART:20261101T060000
END:STANDARD
END:VTIMEZONE
BEGIN:VEVENT
DTSTART;TZID=America/New_York:20250706T083000
DTEND;TZID=America/New_York:20250720T130000
DTSTAMP:20260421T224636
CREATED:20250525T131903Z
LAST-MODIFIED:20250706T125737Z
UID:17371-1751790600-1753016400@www.rncconline.org
SUMMARY:Back to School Donation Drive: Teacher's Edition
DESCRIPTION:RNCC Youth: Fun in the Sun\n				 \n				\n			\n			\n				\n				\n				\n				\n				\n				\n				\n				\n				\n				Well RNCC is kicking off our Back-2-School Donation Drive: Teacher’s Edition to make a difference. This year our goal is to bless 100 amazing educators with classroom supplies they usually buy out of pocket and treat them to a one-of-a-kind Teacher Shopping Experience. \nWays to Support1. DONATE Classroom Supplies for Teachers \n2. NOMINATE 100 amazing teachers for a FREE Teacher Shopping Experience. This is open to any educator\, RNCC member or not. \nDeadline: Sun. July 20 \n  \n			\n				NOMINATE A TEACHER\n			\n				SHOP HERE (DONATION LIST)
URL:https://www.rncconline.org/event/graduation-celebration-2025/
CATEGORIES:Youth
ATTACH;FMTTYPE=image/jpeg:https://www.rncconline.org/wp-content/uploads/2025/05/RNCC-Back-to-School-Donation-Teacher-Edition-Screen.jpg
ORGANIZER;CN="RNCC":MAILTO:noreply@theme-fusion.com
END:VEVENT
END:VCALENDAR