BEGIN:VCALENDAR
VERSION:2.0
PRODID:-//Raleigh North Christian Center | Raleigh, North Carolina - ECPv6.15.20//NONSGML v1.0//EN
CALSCALE:GREGORIAN
METHOD:PUBLISH
X-ORIGINAL-URL:https://www.rncconline.org
X-WR-CALDESC:Events for Raleigh North Christian Center | Raleigh, North Carolina
REFRESH-INTERVAL;VALUE=DURATION:PT1H
X-Robots-Tag:noindex
X-PUBLISHED-TTL:PT1H
BEGIN:VTIMEZONE
TZID:America/New_York
BEGIN:DAYLIGHT
TZOFFSETFROM:-0500
TZOFFSETTO:-0400
TZNAME:EDT
DTSTART:20240310T070000
END:DAYLIGHT
BEGIN:STANDARD
TZOFFSETFROM:-0400
TZOFFSETTO:-0500
TZNAME:EST
DTSTART:20241103T060000
END:STANDARD
BEGIN:DAYLIGHT
TZOFFSETFROM:-0500
TZOFFSETTO:-0400
TZNAME:EDT
DTSTART:20250309T070000
END:DAYLIGHT
BEGIN:STANDARD
TZOFFSETFROM:-0400
TZOFFSETTO:-0500
TZNAME:EST
DTSTART:20251102T060000
END:STANDARD
BEGIN:DAYLIGHT
TZOFFSETFROM:-0500
TZOFFSETTO:-0400
TZNAME:EDT
DTSTART:20260308T070000
END:DAYLIGHT
BEGIN:STANDARD
TZOFFSETFROM:-0400
TZOFFSETTO:-0500
TZNAME:EST
DTSTART:20261101T060000
END:STANDARD
END:VTIMEZONE
BEGIN:VEVENT
DTSTART;TZID=America/New_York:20250930T183000
DTEND;TZID=America/New_York:20250930T193000
DTSTAMP:20260421T112329
CREATED:20250903T165446Z
LAST-MODIFIED:20250903T174352Z
UID:17709-1759257000-1759260600@www.rncconline.org
SUMMARY:RNCC Mental Wellness Virtual Interest Meeting
DESCRIPTION:RNCC Youth: Fun in the Sun\n				 \n				\n			\n			\n				\n				\n				\n				\n				\n				\n				\n				\n				\n				RNCC is seeking members with a heart for people and experience in the Mental Health field to partner with our Mental Wellness Ministry Team.  \nWe’d love for you to join us for a virtual interest and training orientation on Tuesday\, September 30 at 6:30 PM. This session will answer your questions and guide you through the next steps to becoming part of this vital ministry. \nFor more details\, email us at mentalwellness@rncconline.org or stop by the table after the 11:00 AM service. \n			\n				RSVP HERE
URL:https://www.rncconline.org/event/rncc-healthy-lifestyles-move-mingle-sept-2025/
CATEGORIES:RNCC
ATTACH;FMTTYPE=image/jpeg:https://www.rncconline.org/wp-content/uploads/2025/09/RNCC-Mental-Wellness-Interest-Meeting-Screen.jpg
ORGANIZER;CN="RNCC":MAILTO:noreply@theme-fusion.com
END:VEVENT
END:VCALENDAR