BEGIN:VCALENDAR
VERSION:2.0
PRODID:-//Raleigh North Christian Center | Raleigh, North Carolina - ECPv6.15.20//NONSGML v1.0//EN
CALSCALE:GREGORIAN
METHOD:PUBLISH
X-WR-CALNAME:Raleigh North Christian Center | Raleigh, North Carolina
X-ORIGINAL-URL:https://www.rncconline.org
X-WR-CALDESC:Events for Raleigh North Christian Center | Raleigh, North Carolina
REFRESH-INTERVAL;VALUE=DURATION:PT1H
X-Robots-Tag:noindex
X-PUBLISHED-TTL:PT1H
BEGIN:VTIMEZONE
TZID:America/New_York
BEGIN:DAYLIGHT
TZOFFSETFROM:-0500
TZOFFSETTO:-0400
TZNAME:EDT
DTSTART:20240310T070000
END:DAYLIGHT
BEGIN:STANDARD
TZOFFSETFROM:-0400
TZOFFSETTO:-0500
TZNAME:EST
DTSTART:20241103T060000
END:STANDARD
BEGIN:DAYLIGHT
TZOFFSETFROM:-0500
TZOFFSETTO:-0400
TZNAME:EDT
DTSTART:20250309T070000
END:DAYLIGHT
BEGIN:STANDARD
TZOFFSETFROM:-0400
TZOFFSETTO:-0500
TZNAME:EST
DTSTART:20251102T060000
END:STANDARD
BEGIN:DAYLIGHT
TZOFFSETFROM:-0500
TZOFFSETTO:-0400
TZNAME:EDT
DTSTART:20260308T070000
END:DAYLIGHT
BEGIN:STANDARD
TZOFFSETFROM:-0400
TZOFFSETTO:-0500
TZNAME:EST
DTSTART:20261101T060000
END:STANDARD
END:VTIMEZONE
BEGIN:VEVENT
DTSTART;VALUE=DATE:20251102
DTEND;VALUE=DATE:20251208
DTSTAMP:20260421T123953
CREATED:20251102T012330Z
LAST-MODIFIED:20251102T012337Z
UID:17786-1762041600-1765151999@www.rncconline.org
SUMMARY:RNCC Outreach Angel Tree Toy Drive
DESCRIPTION:RNCC Youth: Fun in the Sun\n				 \n				\n			\n			\n				\n				\n				\n				\n				\n				\n				\n				\n				\n				Tis’ the season to give! Join our Annual Toy Drive for Wilburn Elementary. Let’s make this Christmas bright for our community! \n📅 Nov 9–Dec 7 \nHere’s how you can help: \n1. Grab an ornament off of the angel tree in the foyer.2. Shop for the children listed on your ornament.3. Return your NEW\, unwrapped gifts to the boxes in the foyer by Monday\, December 7th. \nQuestions? Email outreach@rncconline.org. Let’s share generosity\, love\, and Christmas spirit! \n  \n 
URL:https://www.rncconline.org/event/rncc-outreach-angel-tree-toy-drive/
CATEGORIES:Outreach
ATTACH;FMTTYPE=image/png:https://www.rncconline.org/wp-content/uploads/2025/11/RNCC-Toy-Drive-Screen.png
ORGANIZER;CN="RNCC":MAILTO:noreply@theme-fusion.com
END:VEVENT
BEGIN:VEVENT
DTSTART;TZID=America/New_York:20251121T190000
DTEND;TZID=America/New_York:20251121T210000
DTSTAMP:20260421T123953
CREATED:20251012T052454Z
LAST-MODIFIED:20251015T210957Z
UID:17762-1763751600-1763758800@www.rncconline.org
SUMMARY:Water Baptism Service (November 2025)
DESCRIPTION:RNCC Youth: Fun in the Sun\n				 \n				\n			\n			\n				\n				\n				\n				\n				\n				\n				\n				\n				\n				💧 Ready to Take the Next Step? \nWe’re excited to host our next Baptism Service on Friday\, November 21 at 7:00pm for all those ready to make this life-changing commitment. Everyone is invited to attend to help us celebrate! \n**Please note: Baptism sign-ups are closed**
URL:https://www.rncconline.org/event/water-baptism-november-2025/
CATEGORIES:RNCC
ATTACH;FMTTYPE=image/png:https://www.rncconline.org/wp-content/uploads/2025/10/RNCC-Water-Baptism-1.png
ORGANIZER;CN="RNCC":MAILTO:noreply@theme-fusion.com
END:VEVENT
END:VCALENDAR