BEGIN:VCALENDAR
VERSION:2.0
PRODID:-//Raleigh North Christian Center | Raleigh, North Carolina - ECPv6.15.20//NONSGML v1.0//EN
CALSCALE:GREGORIAN
METHOD:PUBLISH
X-WR-CALNAME:Raleigh North Christian Center | Raleigh, North Carolina
X-ORIGINAL-URL:https://www.rncconline.org
X-WR-CALDESC:Events for Raleigh North Christian Center | Raleigh, North Carolina
REFRESH-INTERVAL;VALUE=DURATION:PT1H
X-Robots-Tag:noindex
X-PUBLISHED-TTL:PT1H
BEGIN:VTIMEZONE
TZID:America/New_York
BEGIN:DAYLIGHT
TZOFFSETFROM:-0500
TZOFFSETTO:-0400
TZNAME:EDT
DTSTART:20250309T070000
END:DAYLIGHT
BEGIN:STANDARD
TZOFFSETFROM:-0400
TZOFFSETTO:-0500
TZNAME:EST
DTSTART:20251102T060000
END:STANDARD
BEGIN:DAYLIGHT
TZOFFSETFROM:-0500
TZOFFSETTO:-0400
TZNAME:EDT
DTSTART:20260308T070000
END:DAYLIGHT
BEGIN:STANDARD
TZOFFSETFROM:-0400
TZOFFSETTO:-0500
TZNAME:EST
DTSTART:20261101T060000
END:STANDARD
BEGIN:DAYLIGHT
TZOFFSETFROM:-0500
TZOFFSETTO:-0400
TZNAME:EDT
DTSTART:20270314T070000
END:DAYLIGHT
BEGIN:STANDARD
TZOFFSETFROM:-0400
TZOFFSETTO:-0500
TZNAME:EST
DTSTART:20271107T060000
END:STANDARD
END:VTIMEZONE
BEGIN:VEVENT
DTSTART;VALUE=DATE:20260105
DTEND;VALUE=DATE:20260126
DTSTAMP:20260419T203036
CREATED:20251221T124909Z
LAST-MODIFIED:20260102T091427Z
UID:17919-1767571200-1769385599@www.rncconline.org
SUMMARY:21 Days of Fasting & Prayer
DESCRIPTION:RNCC Youth: Fun in the Sun\n				 \n				\n			\n			\n				\n				\n				\n				\n				\n				\n				\n				\n				\n				Join Raleigh North Christian Center as we consecrate for 21 Days of Fasting & Prayer to start of the year through prayer and fasting. Let’s seek God together with focus\, discipline\, and expectation. \n🗓 January 5 – January 25📲 Download your fasting guide \n6AM Monday Conference CallPhone: 857-357-0254Code: 250730 \n			\n				FASTING GUIDE\n			\n				WORSHIP PLAYLIST
URL:https://www.rncconline.org/event/2026-21-day-fast/
CATEGORIES:RNCC
ATTACH;FMTTYPE=image/jpeg:https://www.rncconline.org/wp-content/uploads/2025/12/RNCC-21-Day-Fast-2026-Screen-1.jpg
ORGANIZER;CN="RNCC":MAILTO:noreply@theme-fusion.com
END:VEVENT
END:VCALENDAR