BEGIN:VCALENDAR
VERSION:2.0
PRODID:-//Raleigh North Christian Center | Raleigh, North Carolina - ECPv6.15.20//NONSGML v1.0//EN
CALSCALE:GREGORIAN
METHOD:PUBLISH
X-ORIGINAL-URL:https://www.rncconline.org
X-WR-CALDESC:Events for Raleigh North Christian Center | Raleigh, North Carolina
REFRESH-INTERVAL;VALUE=DURATION:PT1H
X-Robots-Tag:noindex
X-PUBLISHED-TTL:PT1H
BEGIN:VTIMEZONE
TZID:America/New_York
BEGIN:DAYLIGHT
TZOFFSETFROM:-0500
TZOFFSETTO:-0400
TZNAME:EDT
DTSTART:20250309T070000
END:DAYLIGHT
BEGIN:STANDARD
TZOFFSETFROM:-0400
TZOFFSETTO:-0500
TZNAME:EST
DTSTART:20251102T060000
END:STANDARD
BEGIN:DAYLIGHT
TZOFFSETFROM:-0500
TZOFFSETTO:-0400
TZNAME:EDT
DTSTART:20260308T070000
END:DAYLIGHT
BEGIN:STANDARD
TZOFFSETFROM:-0400
TZOFFSETTO:-0500
TZNAME:EST
DTSTART:20261101T060000
END:STANDARD
BEGIN:DAYLIGHT
TZOFFSETFROM:-0500
TZOFFSETTO:-0400
TZNAME:EDT
DTSTART:20270314T070000
END:DAYLIGHT
BEGIN:STANDARD
TZOFFSETFROM:-0400
TZOFFSETTO:-0500
TZNAME:EST
DTSTART:20271107T060000
END:STANDARD
END:VTIMEZONE
BEGIN:VEVENT
DTSTART;TZID=America/New_York:20260201T083000
DTEND;TZID=America/New_York:20260228T140000
DTSTAMP:20260419T151205
CREATED:20260201T143617Z
LAST-MODIFIED:20260208T122311Z
UID:18031-1769934600-1772287200@www.rncconline.org
SUMMARY:Themed Sundays in February at RNCC
DESCRIPTION:RNCC Youth: Fun in the Sun\n				 \n				\n			\n			\n				\n				\n				\n				\n				\n				\n				\n				\n				\n				Themed Sundays arealways a festive time at RNCC where we celebrate\, honor\, and have a little FASHION FUN along the way! Here’s what we have in store this year \nFebruary 15th – HBCU SundayRep your HBCU or wear your Greek gear \nFebruary 22nd – I Love My Church SundayWear we rock our Rock your RNCC merch \nMarch 1st – Heritage SundayWear your favorite African Attire
URL:https://www.rncconline.org/event/sundays-in-february-at-rncc/
CATEGORIES:RNCC
ATTACH;FMTTYPE=image/png:https://www.rncconline.org/wp-content/uploads/2026/02/RNCC-Sundays-in-FEBRUARY-2026-Screen-1.png
ORGANIZER;CN="RNCC":MAILTO:noreply@theme-fusion.com
END:VEVENT
BEGIN:VEVENT
DTSTART;VALUE=DATE:20260204
DTEND;VALUE=DATE:20260302
DTSTAMP:20260419T151206
CREATED:20260205T000557Z
LAST-MODIFIED:20260205T000614Z
UID:18038-1770163200-1772409599@www.rncconline.org
SUMMARY:Financial Learning Experience 2026 (Cohort 1)
DESCRIPTION:RNCC Youth: Fun in the Sun\n				 \n				\n			\n			\n				\n				\n				\n				\n				\n				\n				\n				\n				\n				RNCC’s Financial Education Ministry is excited to host another Financial Learning Experience\, a 7-week virtual learning journey packed with practical tools to help you break free from debt. \n2 Class Options Available! \nMondays🗓 April 13 – May 18 @ 7:00 PM \nThursdays🗓 April 16 – May 21 @ 7:00 PM \n💻 Virtual Experience💲 Registration: $60 per person (includes materials)🗓 Registration Deadline: March 1 (or until capacity is reached) \n			\n				REGISTER
URL:https://www.rncconline.org/event/financial-learning-experience-2026-cohort-1/
CATEGORIES:RNCC
ATTACH;FMTTYPE=image/jpeg:https://www.rncconline.org/wp-content/uploads/2026/02/RNCC-FLE-Class-2026-Screen.jpg
ORGANIZER;CN="RNCC":MAILTO:noreply@theme-fusion.com
END:VEVENT
END:VCALENDAR