BEGIN:VCALENDAR
VERSION:2.0
PRODID:-//Raleigh North Christian Center | Raleigh, North Carolina - ECPv6.15.20//NONSGML v1.0//EN
CALSCALE:GREGORIAN
METHOD:PUBLISH
X-WR-CALNAME:Raleigh North Christian Center | Raleigh, North Carolina
X-ORIGINAL-URL:https://www.rncconline.org
X-WR-CALDESC:Events for Raleigh North Christian Center | Raleigh, North Carolina
REFRESH-INTERVAL;VALUE=DURATION:PT1H
X-Robots-Tag:noindex
X-PUBLISHED-TTL:PT1H
BEGIN:VTIMEZONE
TZID:America/New_York
BEGIN:DAYLIGHT
TZOFFSETFROM:-0500
TZOFFSETTO:-0400
TZNAME:EDT
DTSTART:20250309T070000
END:DAYLIGHT
BEGIN:STANDARD
TZOFFSETFROM:-0400
TZOFFSETTO:-0500
TZNAME:EST
DTSTART:20251102T060000
END:STANDARD
BEGIN:DAYLIGHT
TZOFFSETFROM:-0500
TZOFFSETTO:-0400
TZNAME:EDT
DTSTART:20260308T070000
END:DAYLIGHT
BEGIN:STANDARD
TZOFFSETFROM:-0400
TZOFFSETTO:-0500
TZNAME:EST
DTSTART:20261101T060000
END:STANDARD
BEGIN:DAYLIGHT
TZOFFSETFROM:-0500
TZOFFSETTO:-0400
TZNAME:EDT
DTSTART:20270314T070000
END:DAYLIGHT
BEGIN:STANDARD
TZOFFSETFROM:-0400
TZOFFSETTO:-0500
TZNAME:EST
DTSTART:20271107T060000
END:STANDARD
END:VTIMEZONE
BEGIN:VEVENT
DTSTART;TZID=America/New_York:20260405T110000
DTEND;TZID=America/New_York:20260405T130000
DTSTAMP:20260419T125710
CREATED:20260308T043353Z
LAST-MODIFIED:20260402T175115Z
UID:18099-1775386800-1775394000@www.rncconline.org
SUMMARY:Easter Sunday @ The Memorial Auditorium
DESCRIPTION:RNCC Youth: Fun in the Sun\n				 \n				\n			\n			\n				\n				\n				\n				\n				\n				\n				\n				\n				\n				We’re taking our Resurrection Worship Experience to Downtown Raleigh and you’re invited to be a part of it. Join us on Sunday\, April 5\, 2026 at 11:00 AM at the Raleigh Memorial Auditorium for a powerful time of worship and celebration. RNCC’s Worship United and Performing Arts Ministries will be taking the stage\, and we’ll also be blessed by our special musical guest\, national recording artist Enrique Holmes. \nImportant Notes:• Doors open at 10:30am* One Service Only• No Childcare — the entire family will worship together \nLocation:The Raleigh Memorial Auditorium(inside Martin Marietta Center for the Performing Arts)2 East South Street\, Raleigh\, NC 27601 \n  \n			\n				BAG POLICY\n			\n				PARKING MAP\n			\n				FAQ'S
URL:https://www.rncconline.org/event/rncc-discovering-membership-virtual-march-2026/
CATEGORIES:RNCC
ATTACH;FMTTYPE=image/jpeg:https://www.rncconline.org/wp-content/uploads/2026/03/RNCC-Easter-@-Memorial-Auditorium-New-Screen.jpg
ORGANIZER;CN="RNCC":MAILTO:noreply@theme-fusion.com
END:VEVENT
END:VCALENDAR