BEGIN:VCALENDAR
VERSION:2.0
PRODID:-//Raleigh North Christian Center | Raleigh, North Carolina - ECPv6.15.20//NONSGML v1.0//EN
CALSCALE:GREGORIAN
METHOD:PUBLISH
X-ORIGINAL-URL:https://www.rncconline.org
X-WR-CALDESC:Events for Raleigh North Christian Center | Raleigh, North Carolina
REFRESH-INTERVAL;VALUE=DURATION:PT1H
X-Robots-Tag:noindex
X-PUBLISHED-TTL:PT1H
BEGIN:VTIMEZONE
TZID:America/New_York
BEGIN:DAYLIGHT
TZOFFSETFROM:-0500
TZOFFSETTO:-0400
TZNAME:EDT
DTSTART:20250309T070000
END:DAYLIGHT
BEGIN:STANDARD
TZOFFSETFROM:-0400
TZOFFSETTO:-0500
TZNAME:EST
DTSTART:20251102T060000
END:STANDARD
BEGIN:DAYLIGHT
TZOFFSETFROM:-0500
TZOFFSETTO:-0400
TZNAME:EDT
DTSTART:20260308T070000
END:DAYLIGHT
BEGIN:STANDARD
TZOFFSETFROM:-0400
TZOFFSETTO:-0500
TZNAME:EST
DTSTART:20261101T060000
END:STANDARD
BEGIN:DAYLIGHT
TZOFFSETFROM:-0500
TZOFFSETTO:-0400
TZNAME:EDT
DTSTART:20270314T070000
END:DAYLIGHT
BEGIN:STANDARD
TZOFFSETFROM:-0400
TZOFFSETTO:-0500
TZNAME:EST
DTSTART:20271107T060000
END:STANDARD
END:VTIMEZONE
BEGIN:VEVENT
DTSTART;TZID=America/New_York:20260304T190000
DTEND;TZID=America/New_York:20260325T210000
DTSTAMP:20260419T222945
CREATED:20260201T143853Z
LAST-MODIFIED:20260303T180442Z
UID:18035-1772650800-1774472400@www.rncconline.org
SUMMARY:The Wealth Blueprint (March 2026)
DESCRIPTION:RNCC Youth: Fun in the Sun\n				 \n				\n			\n			\n				\n				\n				\n				\n				\n				\n				\n				\n				\n				The Wealth Blueprint continues each Wednesday in March March covering practical\, real-life topics like budgeting\, saving\, stewardship\, debt freedom\, and building wealth all through a biblical lens you can actually apply. \nWe will also have guest speaker\, Dr. Carla Ray on Wed. March 18 \nMar. 4: Escaping Debt & Breaking CyclesMar. 11: Budget\, Planning & InvestingMar. 18: Generosity and Kingdom GivingMar. 25: The Foundations of Biblical Stewardship Pt. 2 \n​
URL:https://www.rncconline.org/event/the-wealth-blueprint/
CATEGORIES:RNCC
ATTACH;FMTTYPE=image/jpeg:https://www.rncconline.org/wp-content/uploads/2026/02/RNCC-The-Wealth-Blueprint-March-Screen.jpg
ORGANIZER;CN="RNCC":MAILTO:noreply@theme-fusion.com
END:VEVENT
BEGIN:VEVENT
DTSTART;TZID=America/New_York:20260320T190000
DTEND;TZID=America/New_York:20260320T210000
DTSTAMP:20260419T222945
CREATED:20260104T145121Z
LAST-MODIFIED:20260215T024019Z
UID:17948-1774033200-1774040400@www.rncconline.org
SUMMARY:RNCC Vision Night 2026 (RNCC Members Only)
DESCRIPTION:RNCC Youth: Fun in the Sun\n				 \n				\n			\n			\n				\n				\n				\n				\n				\n				\n				\n				\n				\n				Big things are unfolding at RNCC and we can’t wait to share them with you! \nMark your calendar for Friday\, March 20th at 7 PM for our 2026 Vision Night! We’ll celebrate wins across our ministries\, share financial highlights\, spotlight our impact in the community\, and cast vision for our new campus\, our youth\, and our new upcoming Generosity Initiative.  \nPlease note: This night is for RNCC Members Only! \nRSVP REQUESTED! \n			\n				RSVP
URL:https://www.rncconline.org/event/married-couples-step-in-the-name-of-love/
CATEGORIES:RNCC
ATTACH;FMTTYPE=image/png:https://www.rncconline.org/wp-content/uploads/2026/01/RNCC-Vision-Sunday-Screen.png
ORGANIZER;CN="RNCC":MAILTO:noreply@theme-fusion.com
END:VEVENT
BEGIN:VEVENT
DTSTART;TZID=America/New_York:20260405T110000
DTEND;TZID=America/New_York:20260405T130000
DTSTAMP:20260419T222945
CREATED:20260308T043353Z
LAST-MODIFIED:20260402T175115Z
UID:18099-1775386800-1775394000@www.rncconline.org
SUMMARY:Easter Sunday @ The Memorial Auditorium
DESCRIPTION:RNCC Youth: Fun in the Sun\n				 \n				\n			\n			\n				\n				\n				\n				\n				\n				\n				\n				\n				\n				We’re taking our Resurrection Worship Experience to Downtown Raleigh and you’re invited to be a part of it. Join us on Sunday\, April 5\, 2026 at 11:00 AM at the Raleigh Memorial Auditorium for a powerful time of worship and celebration. RNCC’s Worship United and Performing Arts Ministries will be taking the stage\, and we’ll also be blessed by our special musical guest\, national recording artist Enrique Holmes. \nImportant Notes:• Doors open at 10:30am* One Service Only• No Childcare — the entire family will worship together \nLocation:The Raleigh Memorial Auditorium(inside Martin Marietta Center for the Performing Arts)2 East South Street\, Raleigh\, NC 27601 \n  \n			\n				BAG POLICY\n			\n				PARKING MAP\n			\n				FAQ'S
URL:https://www.rncconline.org/event/rncc-discovering-membership-virtual-march-2026/
CATEGORIES:RNCC
ATTACH;FMTTYPE=image/jpeg:https://www.rncconline.org/wp-content/uploads/2026/03/RNCC-Easter-@-Memorial-Auditorium-New-Screen.jpg
ORGANIZER;CN="RNCC":MAILTO:noreply@theme-fusion.com
END:VEVENT
BEGIN:VEVENT
DTSTART;TZID=America/New_York:20260408T190000
DTEND;TZID=America/New_York:20260408T210000
DTSTAMP:20260419T222945
CREATED:20260322T050512Z
LAST-MODIFIED:20260331T191553Z
UID:18129-1775674800-1775682000@www.rncconline.org
SUMMARY:Lady Chapman's Birthday Celebration
DESCRIPTION:RNCC Youth: Fun in the Sun\n				 \n				\n			\n			\n				\n				\n				\n				\n				\n				\n				\n				\n				\n				Join us on Wednesday\, April 8th for a special evening to honor our First Lady’s Birthday. This will be a LIVE podcast-style celebration featuring engaging conversation\, laughter\, wisdom\, and powerful insight with Lady Chapman. \n📅 Wednesday\, April 8🕖 7:00 PM. \n👗 Attire: Wear Shades of Pink OR blue with Jeans \nIf you’d like to celebrate First Lady\, gifts and Cash App are gladly welcomed. We look forward to celebrating with everyone together on this special day!
URL:https://www.rncconline.org/event/lady-chapmans-birthday-celebration/
CATEGORIES:RNCC
ATTACH;FMTTYPE=image/png:https://www.rncconline.org/wp-content/uploads/2026/03/RNCC-Lady-Chapman-Bday-Celebration-2026-Screen-1.png
ORGANIZER;CN="RNCC":MAILTO:noreply@theme-fusion.com
END:VEVENT
BEGIN:VEVENT
DTSTART;TZID=America/New_York:20260410T190000
DTEND;TZID=America/New_York:20260410T210000
DTSTAMP:20260419T222945
CREATED:20260308T124159Z
LAST-MODIFIED:20260322T172807Z
UID:18105-1775847600-1775854800@www.rncconline.org
SUMMARY:RNCC Entrepreneur's Ministry: Built to Connect Mixer
DESCRIPTION:RNCC Youth: Fun in the Sun\n				 \n				\n			\n			\n				\n				\n				\n				\n				\n				\n				\n				\n				\n				ENTREPRENEURS Built to Connect Mixer\, hosted by the RNCC Entreprenuer’s Ministry\, is designed to make connection natural\, engaging\, and meaningful. \n🤝 Connect with entrepreneurs across industries💡 Share your current and future business vision🌱 Build relationships that lead to collaboration🥤 Enjoy light refreshments \n📅 April 10\, 2026. 7pm📍 RNCC⚠️ RSVP required by March 29 or once capacity is reached \n			\n				REGISTER
URL:https://www.rncconline.org/event/rncc-entrepreneurs-ministry-built-to-connect-mixer/
CATEGORIES:RNCC
ATTACH;FMTTYPE=image/jpeg:https://www.rncconline.org/wp-content/uploads/2026/03/RNCC-Entrepreneurs-Built-to-Connect-Screen-scaled.jpg
ORGANIZER;CN="RNCC":MAILTO:noreply@theme-fusion.com
END:VEVENT
BEGIN:VEVENT
DTSTART;TZID=America/New_York:20260421T190000
DTEND;TZID=America/New_York:20260421T203000
DTSTAMP:20260419T222945
CREATED:20260215T023048Z
LAST-MODIFIED:20260412T121815Z
UID:18056-1776798000-1776803400@www.rncconline.org
SUMMARY:RNCC Discovering Membership - Virtual (April 2026)
DESCRIPTION:RNCC Youth: Fun in the Sun\n				 \n				\n			\n			\n				\n				\n				\n				\n				\n				\n				\n				\n				\n				RNCC is good ground and we would like for you to be the newest member of our family! If you’d like to learn more about us\, join the Discovering Membership class on Tuesday\, Mar. 17 at 7pm.This virtual session will equip you with the information you need to be a part of Raleigh North Christian Center. \n📅 Tuesday April 21 \n⏰ 7 PM 📍 Virtual \n  \n			\n				ACCESS CLASS
URL:https://www.rncconline.org/event/rncc-discovering-membership-virtual-february-2026/
CATEGORIES:RNCC
ATTACH;FMTTYPE=image/jpeg:https://www.rncconline.org/wp-content/uploads/2026/02/Discovering-membership-New-Screen-4.21.26.jpg
ORGANIZER;CN="RNCC":MAILTO:noreply@theme-fusion.com
END:VEVENT
BEGIN:VEVENT
DTSTART;TZID=America/New_York:20260426T143000
DTEND;TZID=America/New_York:20260426T173000
DTSTAMP:20260419T222945
CREATED:20250413T112342Z
LAST-MODIFIED:20260329T123549Z
UID:17086-1777213800-1777224600@www.rncconline.org
SUMMARY:MOVE Men: Brotherhood & Basketball
DESCRIPTION:RNCC Youth: Fun in the Sun\n				 \n				\n			\n			\n				\n				\n				\n				\n				\n				\n				\n				\n				\n				Fellas\, the court is calling! The MOV Brotherhood Basketball Outing is back\, and it’s shaping up to be a full-court experience. Whether you’re ready to hit the court\, showcase your skills\, or simply come out to support and connect\, this is a great opportunity to build brotherhood in a relaxed and energetic environment. \n📅 Sunday\, April 26th⏰ 2:30 PM (Immediately following service)📍 Green Road Community Center \nRegistration Required to participate.  Be sure to secure your spot today! \n			\n				REGISTER
URL:https://www.rncconline.org/event/move-men-brotherhood-basketball/
CATEGORIES:Men
ATTACH;FMTTYPE=image/png:https://www.rncconline.org/wp-content/uploads/2025/04/RNCC-MOVE-Brotherhood-Basketball-Screen-1.png
ORGANIZER;CN="RNCC":MAILTO:noreply@theme-fusion.com
END:VEVENT
BEGIN:VEVENT
DTSTART;TZID=America/New_York:20260429T190000
DTEND;TZID=America/New_York:20260429T210000
DTSTAMP:20260419T222945
CREATED:20260412T122420Z
LAST-MODIFIED:20260412T122430Z
UID:18299-1777489200-1777496400@www.rncconline.org
SUMMARY:Night of Prayer
DESCRIPTION:RNCC Youth: Fun in the Sun\n				 \n				\n			\n			\n				\n				\n				\n				\n				\n				\n				\n				\n				\n				Join us for a special Night of Prayer on Wednesday\, April 29th as we prepare our hearts for Commitment Sunday. \nIn place of our regular Bible Study\, we will gather for an intentional time of prayer and light worship\, creating space to seek God\, realign\, and come together in His presence. \nLet’s fill the room\, pray as one\, and get aligned for what God is about to do as we take steps toward our new campus at Blue Run Lane.
URL:https://www.rncconline.org/event/night-of-prayer/
CATEGORIES:RNCC
ATTACH;FMTTYPE=image/png:https://www.rncconline.org/wp-content/uploads/2026/02/RNCC-Corporate-Prayer-Screen-1.png
ORGANIZER;CN="RNCC":MAILTO:noreply@theme-fusion.com
END:VEVENT
BEGIN:VEVENT
DTSTART;TZID=America/New_York:20260516T100000
DTEND;TZID=America/New_York:20260516T120000
DTSTAMP:20260419T222945
CREATED:20260419T130638Z
LAST-MODIFIED:20260419T130645Z
UID:18307-1778925600-1778932800@www.rncconline.org
SUMMARY:RNCC Youth: Fun in the Sun
DESCRIPTION:RNCC Youth: Fun in the Sun\n				 \n				\n			\n			\n				\n				\n				\n				\n				\n				\n				\n				\n				\n				Join us for a joyful and relaxed morning where kids can play\, laugh\, and make new friends—while parents connect and build community with one another. \n📍 Location: Forest Ridge Park (Shelter 1)\, Wake Forest🕙 Time: 10:00 AM – 12:00 PM🎟️ FREE Admission – RSVP Required👶🏽 Ages: 0–11 \nWe can’t wait to see you there! \n			\n				REGISTER
URL:https://www.rncconline.org/event/rncc-youth-fun-in-the-sun/
CATEGORIES:Youth
ATTACH;FMTTYPE=image/png:https://www.rncconline.org/wp-content/uploads/2026/04/RNCC-Youth-FUN-in-the-SUN-Screen.png
ORGANIZER;CN="RNCC":MAILTO:noreply@theme-fusion.com
END:VEVENT
END:VCALENDAR