BEGIN:VCALENDAR
VERSION:2.0
PRODID:-//Raleigh North Christian Center | Raleigh, North Carolina - ECPv6.15.20//NONSGML v1.0//EN
CALSCALE:GREGORIAN
METHOD:PUBLISH
X-WR-CALNAME:Raleigh North Christian Center | Raleigh, North Carolina
X-ORIGINAL-URL:https://www.rncconline.org
X-WR-CALDESC:Events for Raleigh North Christian Center | Raleigh, North Carolina
REFRESH-INTERVAL;VALUE=DURATION:PT1H
X-Robots-Tag:noindex
X-PUBLISHED-TTL:PT1H
BEGIN:VTIMEZONE
TZID:America/New_York
BEGIN:DAYLIGHT
TZOFFSETFROM:-0500
TZOFFSETTO:-0400
TZNAME:EDT
DTSTART:20240310T070000
END:DAYLIGHT
BEGIN:STANDARD
TZOFFSETFROM:-0400
TZOFFSETTO:-0500
TZNAME:EST
DTSTART:20241103T060000
END:STANDARD
BEGIN:DAYLIGHT
TZOFFSETFROM:-0500
TZOFFSETTO:-0400
TZNAME:EDT
DTSTART:20250309T070000
END:DAYLIGHT
BEGIN:STANDARD
TZOFFSETFROM:-0400
TZOFFSETTO:-0500
TZNAME:EST
DTSTART:20251102T060000
END:STANDARD
BEGIN:DAYLIGHT
TZOFFSETFROM:-0500
TZOFFSETTO:-0400
TZNAME:EDT
DTSTART:20260308T070000
END:DAYLIGHT
BEGIN:STANDARD
TZOFFSETFROM:-0400
TZOFFSETTO:-0500
TZNAME:EST
DTSTART:20261101T060000
END:STANDARD
END:VTIMEZONE
BEGIN:VEVENT
DTSTART;VALUE=DATE:20250216
DTEND;VALUE=DATE:20250304
DTSTAMP:20260420T112057
CREATED:20250216T145936Z
LAST-MODIFIED:20250218T153728Z
UID:16820-1739664000-1741046399@www.rncconline.org
SUMMARY:BOW Mime Volunteers Needed
DESCRIPTION:LOL Teen Worship & Arts Conference\n				 \n				\n			\n			\n				\n				\n				\n				\n				\n				\n				\n				\n				\n				JOIN THE TEAM! \nThe BOW Mime Team is looking for fresh faces\, and we think you might be perfect! Are you 12 or older? Do you love dancing\, expressing yourself\, or being creative? If that’s a yes\, then this might be the team for you! And don’t worry if you’ve ever mimed before. We’ll teach you everything you need to know! \nALL SKILL LEVELS WELCOME! \n  \n			\n				SIGN UP
URL:https://www.rncconline.org/event/bow-mime-volunteers-needed/
CATEGORIES:Men
ATTACH;FMTTYPE=image/jpeg:https://www.rncconline.org/wp-content/uploads/2025/02/RNCC-BOW-Mime-Volunteers-Needed-Screen.jpg
END:VEVENT
END:VCALENDAR