BEGIN:VCALENDAR
VERSION:2.0
PRODID:-//Raleigh North Christian Center | Raleigh, North Carolina - ECPv6.15.20//NONSGML v1.0//EN
CALSCALE:GREGORIAN
METHOD:PUBLISH
X-ORIGINAL-URL:https://www.rncconline.org
X-WR-CALDESC:Events for Raleigh North Christian Center | Raleigh, North Carolina
REFRESH-INTERVAL;VALUE=DURATION:PT1H
X-Robots-Tag:noindex
X-PUBLISHED-TTL:PT1H
BEGIN:VTIMEZONE
TZID:America/New_York
BEGIN:DAYLIGHT
TZOFFSETFROM:-0500
TZOFFSETTO:-0400
TZNAME:EDT
DTSTART:20240310T070000
END:DAYLIGHT
BEGIN:STANDARD
TZOFFSETFROM:-0400
TZOFFSETTO:-0500
TZNAME:EST
DTSTART:20241103T060000
END:STANDARD
BEGIN:DAYLIGHT
TZOFFSETFROM:-0500
TZOFFSETTO:-0400
TZNAME:EDT
DTSTART:20250309T070000
END:DAYLIGHT
BEGIN:STANDARD
TZOFFSETFROM:-0400
TZOFFSETTO:-0500
TZNAME:EST
DTSTART:20251102T060000
END:STANDARD
BEGIN:DAYLIGHT
TZOFFSETFROM:-0500
TZOFFSETTO:-0400
TZNAME:EDT
DTSTART:20260308T070000
END:DAYLIGHT
BEGIN:STANDARD
TZOFFSETFROM:-0400
TZOFFSETTO:-0500
TZNAME:EST
DTSTART:20261101T060000
END:STANDARD
END:VTIMEZONE
BEGIN:VEVENT
DTSTART;TZID=America/New_York:20250402T173000
DTEND;TZID=America/New_York:20250402T200000
DTSTAMP:20260422T070149
CREATED:20250323T113528Z
LAST-MODIFIED:20250323T113705Z
UID:16949-1743615000-1743624000@www.rncconline.org
SUMMARY:RNCC Teens Nite Out: Escape Room
DESCRIPTION:RNCC Youth: Fun in the Sun\n				 \n				\n			\n			\n				\n				\n				\n				\n				\n				\n				\n				\n				\n				Hey Teens! Looking for something fun to do? \nJoin us on April 2nd at 5:30 PM for an Escape Room Challenge at All In Adventures! 🔐🕵️‍♀️Can you solve the clues and escape in time? ⏳ \nThere will be puzzles 🧩\, food 🍕\, and lots of fun 😄!Spots are limited\, so sign up now! 📲✅ \n			\n				REGISTER HERE
URL:https://www.rncconline.org/event/rncc-teens-nite-out-escape-room/
CATEGORIES:Youth
ATTACH;FMTTYPE=image/png:https://www.rncconline.org/wp-content/uploads/2025/03/Teens-Skyzone.png
END:VEVENT
BEGIN:VEVENT
DTSTART;TZID=America/New_York:20250415T190000
DTEND;TZID=America/New_York:20250415T203000
DTSTAMP:20260422T070149
CREATED:20250107T161621Z
LAST-MODIFIED:20250413T114021Z
UID:16664-1744743600-1744749000@www.rncconline.org
SUMMARY:Discovering Membership
DESCRIPTION:RNCC Youth: Fun in the Sun\n				\n				\n			\n			\n				\n				\n				\n				\n				\n				\n				\n				\n				\n				Discovering Membership – Tues. April 15 7:00pm \nRNCC is good ground and we would like for you to be the newest member of our family! If you’d like to learn more about us or become a member of RNCC\, join the Discovering Membership class on Tuesday\,April 15 at 7pm. This virtual session will equip you with the information you need to be a part of Raleigh North Christian Center. \n			\n				\n				\n				\n				\n				\n				\n				\n					\n				\n				\n				\n				\n				\n				\n				\n				\n				\n				\n				\n				\n				\n				\n				\n				\n				\n				\n				\n					RNCC Youth: Fun in the Sun\n				 \n				\n			\n			\n				\n				\n				\n				\n				\n				\n				\n				\n				\n				Join us for a joyful and relaxed morning where kids can play\, laugh\, and make new friends—while parents connect and build community with one another. \n📍 Location: Forest Ridge Park (Shelter 1)\, Wake Forest🕙 Time: 10:00 AM – 12:00 PM🎟️ FREE Admission – RSVP Required👶🏽 Ages: 0–11 \nWe can’t wait to see you there! \n			\n				REGISTER\n			\n			\n				\n				\n				\n				\n			\n				\n				\n			\n\n				\n			\n			\n				\n				\n				\n				\n			\n				\n				\n			\n				\n				\n				\n				\n				\n				\n				\n				\n				\n				\n				\n				\n				\n			\n				\n				\n				\n				\n				\n								\n					\n												← Night of Prayer
URL:https://www.rncconline.org/event/discovering-membership/
ATTACH;FMTTYPE=image/jpeg:https://www.rncconline.org/wp-content/uploads/2025/01/RNCC-Discovering-Membership-Screen-Apr-15.jpg
END:VEVENT
BEGIN:VEVENT
DTSTART;TZID=America/New_York:20250428T190000
DTEND;TZID=America/New_York:20250428T200000
DTSTAMP:20260422T070149
CREATED:20250323T123102Z
LAST-MODIFIED:20250323T124925Z
UID:16965-1745866800-1745870400@www.rncconline.org
SUMMARY:RNCC Dove Wings Dance Ministry Virtual Interest Meeting
DESCRIPTION:RNCC Youth: Fun in the Sun\n				 \n				\n			\n			\n				\n				\n				\n				\n				\n				\n				\n				\n				\n				Are you 8 years  or older\, love to dance\, and have a heart for God? Then Dove’s Wings Youth is the place for you! Join us virtually on April 28th at 7:00 PM for our annual interest meeting and learn how you can be part of this amazing ministry! \n			\n				SIGN UP
URL:https://www.rncconline.org/event/rncc-dove-wings-dance-ministry-virtual-interest-meeting/
CATEGORIES:RNCC
ATTACH;FMTTYPE=image/jpeg:https://www.rncconline.org/wp-content/uploads/2025/03/RNCC-Dove-Wings-Interest-Meeting-Screen.jpg
ORGANIZER;CN="RNCC":MAILTO:noreply@theme-fusion.com
END:VEVENT
END:VCALENDAR