BEGIN:VCALENDAR
VERSION:2.0
PRODID:-//Raleigh North Christian Center | Raleigh, North Carolina - ECPv6.15.20//NONSGML v1.0//EN
CALSCALE:GREGORIAN
METHOD:PUBLISH
X-WR-CALNAME:Raleigh North Christian Center | Raleigh, North Carolina
X-ORIGINAL-URL:https://www.rncconline.org
X-WR-CALDESC:Events for Raleigh North Christian Center | Raleigh, North Carolina
REFRESH-INTERVAL;VALUE=DURATION:PT1H
X-Robots-Tag:noindex
X-PUBLISHED-TTL:PT1H
BEGIN:VTIMEZONE
TZID:America/New_York
BEGIN:DAYLIGHT
TZOFFSETFROM:-0500
TZOFFSETTO:-0400
TZNAME:EDT
DTSTART:20240310T070000
END:DAYLIGHT
BEGIN:STANDARD
TZOFFSETFROM:-0400
TZOFFSETTO:-0500
TZNAME:EST
DTSTART:20241103T060000
END:STANDARD
BEGIN:DAYLIGHT
TZOFFSETFROM:-0500
TZOFFSETTO:-0400
TZNAME:EDT
DTSTART:20250309T070000
END:DAYLIGHT
BEGIN:STANDARD
TZOFFSETFROM:-0400
TZOFFSETTO:-0500
TZNAME:EST
DTSTART:20251102T060000
END:STANDARD
BEGIN:DAYLIGHT
TZOFFSETFROM:-0500
TZOFFSETTO:-0400
TZNAME:EDT
DTSTART:20260308T070000
END:DAYLIGHT
BEGIN:STANDARD
TZOFFSETFROM:-0400
TZOFFSETTO:-0500
TZNAME:EST
DTSTART:20261101T060000
END:STANDARD
END:VTIMEZONE
BEGIN:VEVENT
DTSTART;TZID=America/New_York:20250506T190000
DTEND;TZID=America/New_York:20250506T200000
DTSTAMP:20260422T053031
CREATED:20250423T162242Z
LAST-MODIFIED:20250423T162451Z
UID:17188-1746558000-1746561600@www.rncconline.org
SUMMARY:Healthy Lifestyles: Intersection of Lifestyle and Mental Health (Virtual Discussion)
DESCRIPTION:RNCC Youth: Fun in the Sun\n				 \n				\n			\n			\n				\n				\n				\n				\n				\n				\n				\n				\n				\n				The Healthy Lifestyles Ministry is excited to partner with the Mental Wellness Ministry for an engaging and interactive online discussion on Tuesday\, May 6\, 2025\, at 7:00 PM! \nWe have a powerful panel of professionals that will help us explore the powerful connection between nutrition\, lifestyle choices\, and mental wellness. This collaborative session will provide practical insights\, expert guidance\, and real-life strategies to help you nurture both your body and mind. \n📅 Date: Tuesday\, May 6\, 2025 \n⏰ Time: 7:00 PM \n📍Virtual (View via RNCC FB or Youtube) \nFREE & OPEN TO ALL! (No registration required) \n			\n				WATCH LIVE (FACEBOOK)\n			\n				WATCH LIVE (YOUTUBE)
URL:https://www.rncconline.org/event/healthy-lifestyles-intersection-of-lifestyle-and-mental-health-virtual-discussion/
CATEGORIES:RNCC
ATTACH;FMTTYPE=image/jpeg:https://www.rncconline.org/wp-content/uploads/2025/04/RNCC-Healthy-Lifestyles-Lifestyles-Mental-Health-Screen.jpg
ORGANIZER;CN="RNCC":MAILTO:noreply@theme-fusion.com
END:VEVENT
BEGIN:VEVENT
DTSTART;TZID=America/New_York:20250514T190000
DTEND;TZID=America/New_York:20250514T210000
DTSTAMP:20260422T053031
CREATED:20250427T104209Z
LAST-MODIFIED:20250427T104217Z
UID:17225-1747249200-1747256400@www.rncconline.org
SUMMARY:RNCC Teen Huddle
DESCRIPTION:RNCC Youth: Fun in the Sun\n				 \n				\n			\n			\n				\n				\n				\n				\n				\n				\n				\n				\n				\n				The RNCC Mental Wellness Ministry will be hosting a Teen Huddle for all teens 12-17. There will be pizza\, games\, activities and discussions on teen mental health topics. \nDisclaimer: This event is for fellowship purposes; however\, if sensitive information is shared by participating youth with RNCC staff and/or volunteers\, there may be a legal duty to report the information as required by law.
URL:https://www.rncconline.org/event/rncc-teen-huddle/
CATEGORIES:Youth
ATTACH;FMTTYPE=image/png:https://www.rncconline.org/wp-content/uploads/2025/04/RNCC-Teen-Huddle-Screen-.png
ORGANIZER;CN="RNCC":MAILTO:noreply@theme-fusion.com
END:VEVENT
BEGIN:VEVENT
DTSTART;TZID=America/New_York:20250517T110000
DTEND;TZID=America/New_York:20250517T130000
DTSTAMP:20260422T053031
CREATED:20250423T164913Z
LAST-MODIFIED:20250423T165028Z
UID:17200-1747479600-1747486800@www.rncconline.org
SUMMARY:RNCC Men of Valor: Walk & Talk
DESCRIPTION:RNCC Youth: Fun in the Sun\n				 \n				\n			\n			\n				\n				\n				\n				\n				\n				\n				\n				\n				\n				Brothers\, let’s take a break from the busyness of life and come together for a time of fellowship\, wisdom\, and encouragement. This is an opportunity for men (16 and up) to connect\, share\, and strengthen one another in faith and life. Don’t miss this time of meaningful conversation and brotherhood! \n📅 Date: Saturday\, May 17\, 2025⏰ Time: 11:00 AM – 1:00 PM📍 Location: Spring Forest Park
URL:https://www.rncconline.org/event/rncc-men-of-valor-walk-talk/
CATEGORIES:Men
ATTACH;FMTTYPE=image/jpeg:https://www.rncconline.org/wp-content/uploads/2025/04/Copy-of-RNCC-MOV-Walk-Talk-Screen.jpg
ORGANIZER;CN="RNCC":MAILTO:noreply@theme-fusion.com
END:VEVENT
BEGIN:VEVENT
DTSTART;TZID=America/New_York:20250523T190000
DTEND;TZID=America/New_York:20250523T210000
DTSTAMP:20260422T053031
CREATED:20250427T112708Z
LAST-MODIFIED:20250508T145306Z
UID:17230-1748026800-1748034000@www.rncconline.org
SUMMARY:InCrowd Young Adults: Friday Night Vibes The Outpour
DESCRIPTION:RNCC Youth: Fun in the Sun\n				 \n				\n			\n			\n				\n				\n				\n				\n				\n				\n				\n				\n				\n				What’s up Young Adults 18-35! We’re back at it! Come hang out with INCROWD on Friday May 23 from 7-9 pm for “ Friday Night Vibes: The Outpour”! \nWe are bringing in national recording artist and producer Kendall McDowell and his squad to the stage\, and we plan to bring HEAVEN DOWN! \nAttire: Denim on Denim (Casual) \nRegistration: Required by May 18 \n  \n			\n				REGISTER
URL:https://www.rncconline.org/event/incrowd-young-adults-friday-night-vibes-the-outpour/
CATEGORIES:RNCC
ATTACH;FMTTYPE=image/jpeg:https://www.rncconline.org/wp-content/uploads/2025/04/Incrowd-Friday-Night-Vibes-5.23-Screen.jpg
ORGANIZER;CN="RNCC":MAILTO:noreply@theme-fusion.com
END:VEVENT
END:VCALENDAR