BEGIN:VCALENDAR
VERSION:2.0
PRODID:-//Raleigh North Christian Center | Raleigh, North Carolina - ECPv6.15.20//NONSGML v1.0//EN
CALSCALE:GREGORIAN
METHOD:PUBLISH
X-WR-CALNAME:Raleigh North Christian Center | Raleigh, North Carolina
X-ORIGINAL-URL:https://www.rncconline.org
X-WR-CALDESC:Events for Raleigh North Christian Center | Raleigh, North Carolina
REFRESH-INTERVAL;VALUE=DURATION:PT1H
X-Robots-Tag:noindex
X-PUBLISHED-TTL:PT1H
BEGIN:VTIMEZONE
TZID:America/New_York
BEGIN:DAYLIGHT
TZOFFSETFROM:-0500
TZOFFSETTO:-0400
TZNAME:EDT
DTSTART:20240310T070000
END:DAYLIGHT
BEGIN:STANDARD
TZOFFSETFROM:-0400
TZOFFSETTO:-0500
TZNAME:EST
DTSTART:20241103T060000
END:STANDARD
BEGIN:DAYLIGHT
TZOFFSETFROM:-0500
TZOFFSETTO:-0400
TZNAME:EDT
DTSTART:20250309T070000
END:DAYLIGHT
BEGIN:STANDARD
TZOFFSETFROM:-0400
TZOFFSETTO:-0500
TZNAME:EST
DTSTART:20251102T060000
END:STANDARD
BEGIN:DAYLIGHT
TZOFFSETFROM:-0500
TZOFFSETTO:-0400
TZNAME:EDT
DTSTART:20260308T070000
END:DAYLIGHT
BEGIN:STANDARD
TZOFFSETFROM:-0400
TZOFFSETTO:-0500
TZNAME:EST
DTSTART:20261101T060000
END:STANDARD
END:VTIMEZONE
BEGIN:VEVENT
DTSTART;VALUE=DATE:20251001
DTEND;VALUE=DATE:20251006
DTSTAMP:20260421T111441
CREATED:20250829T074053Z
LAST-MODIFIED:20250915T161443Z
UID:17687-1759276800-1759708799@www.rncconline.org
SUMMARY:25th Church & Pastoral Anniversary
DESCRIPTION:RNCC Youth: Fun in the Sun\n				 \n				\n			\n			\n				\n				\n				\n				\n				\n				\n				\n				\n				\n				25th ANNIVERSARY KICK OFF WEEK: SEPT. 22-26 \n\nMonday-Wednesday\, September 22-24 (Liquid Fast)6am prayer conference calls each morning\nWednesday\, Sept. 24 7pm – Night of Prayer\nFriday\, Sept. 26 7pm – Family Fun Pep Rally\n\n  \n25th ANNIVERSARY CELEBRATION WEEK: OCT. 1-5 \n\nWednesday\, October 1 7pm – (Dr. R.A. Vernon and Jay Todd)\nThursday\, October 2 7pm – (Pastor Dameion Royal)\nFriday\, October 3 7pm – (Night of Worship)\nSunday\, October 5 8:30am & 11:00am – (Bishop Van Moody)\nSunday October 5 6:30pm – (25th Anniversary Gala)\n\n			\n				ANNIVERSARY GUIDE\n			\n				PEP-RALLY SIGN-UP
URL:https://www.rncconline.org/event/25th-church-pastoral-anniversary/
CATEGORIES:RNCC
ATTACH;FMTTYPE=image/jpeg:https://www.rncconline.org/wp-content/uploads/2025/08/RNCC-25-Anniversary-Event-Screen.jpg
ORGANIZER;CN="RNCC":MAILTO:noreply@theme-fusion.com
END:VEVENT
BEGIN:VEVENT
DTSTART;TZID=America/New_York:20251002T190000
DTEND;TZID=America/New_York:20251002T210000
DTSTAMP:20260421T111441
CREATED:20250928T064335Z
LAST-MODIFIED:20250928T064342Z
UID:17747-1759431600-1759438800@www.rncconline.org
SUMMARY:RNCC 25th Anniversary: A Legacy of Worship
DESCRIPTION:RNCC Youth: Fun in the Sun\n				 \n				\n			\n			\n				\n				\n				\n				\n				\n				\n				\n				\n				\n				Join us for a night of worship for the 25th ANNIVERSARY. We will have former RNCC worship leaders and friends\, leading us into worship! There will also be food trucks following service! \nFriday\, October 3 7pm – (Night of Worship)Attire: All black with accessories (Casual)Free Admission – Open to the Public
URL:https://www.rncconline.org/event/rncc-25th-anniversary-a-legacy-of-worship/
CATEGORIES:RNCC
ATTACH;FMTTYPE=image/jpeg:https://www.rncconline.org/wp-content/uploads/2025/09/RNCC-25-Anniversary-Night-of-Worship-Screen.jpg
ORGANIZER;CN="RNCC":MAILTO:noreply@theme-fusion.com
END:VEVENT
BEGIN:VEVENT
DTSTART;TZID=America/New_York:20251005T183000
DTEND;TZID=America/New_York:20251005T210000
DTSTAMP:20260421T111441
CREATED:20250829T040930Z
LAST-MODIFIED:20250831T034557Z
UID:17680-1759689000-1759698000@www.rncconline.org
SUMMARY:25th Church Anniversary Gala
DESCRIPTION:RNCC Youth: Fun in the Sun\n				 \n				\n			\n			\n				\n				\n				\n				\n				\n				\n				\n				\n				\n				Theme: Melanin & Metals \nDate: Sun. Oct. 5 6:30pm \nLocation: North Ridge Country Club 6612 Falls of Neuse Rd\, Raleigh\, NC 27615 \nRegistration Required \nVIP & General Tickets Available \nAttire: Formal Attire (Shades of Brown) \nPlease note: Tickets NON-REFUNDABLE and NON-TRANSFERABLE \n			\n				VIP REGISTRATION\n			\n				GENERAL REGISTRATION\n			\n				ATTIRE EXAMPLES
URL:https://www.rncconline.org/event/25th-church-anniversary-gala/
CATEGORIES:RNCC
ATTACH;FMTTYPE=image/png:https://www.rncconline.org/wp-content/uploads/2025/08/RNCC-25th-Anniversary-Gala-Screen-1.png
ORGANIZER;CN="RNCC":MAILTO:noreply@theme-fusion.com
END:VEVENT
BEGIN:VEVENT
DTSTART;TZID=America/New_York:20251010T190000
DTEND;TZID=America/New_York:20251010T210000
DTSTAMP:20260421T111441
CREATED:20250914T125555Z
LAST-MODIFIED:20250918T171832Z
UID:17725-1760122800-1760130000@www.rncconline.org
SUMMARY:Incrowd Young Adults Bible Study & Potluck
DESCRIPTION:RNCC Youth: Fun in the Sun\n				 \n				\n			\n			\n				\n				\n				\n				\n				\n				\n				\n				\n				\n				InCrowd fam\, Bible Study is officially making a comeback but this time we’re adding a little twist! With Thanksgiving right around the corner\, we’re bringing you a Potluck Edition.Get ready to dive deep into God’s Word\, chilling with the fam\, and eating good! It’s the perfect all-in-one. \nMake sure you register through the RNCC app or website so we know you’re coming\, and don’t forget to let us know what dish you’re bringing to the table. \n📍5809 Taylor Rd Wendell NC \n🗓 Friday Oct. 10 7pm \nAges 18-25 \nRegistration Deadline: Sept. 28 \n			\n				RSVP HERE
URL:https://www.rncconline.org/event/incrowd-young-adults-bible-study-potluck/
CATEGORIES:RNCC
ATTACH;FMTTYPE=image/png:https://www.rncconline.org/wp-content/uploads/2025/09/Incrowd-BIBLE-STUDY-Potluck-Screen.png
ORGANIZER;CN="RNCC":MAILTO:noreply@theme-fusion.com
END:VEVENT
BEGIN:VEVENT
DTSTART;TZID=America/New_York:20251021T190000
DTEND;TZID=America/New_York:20251021T203000
DTSTAMP:20260421T111441
CREATED:20251012T050535Z
LAST-MODIFIED:20251012T050542Z
UID:17756-1761073200-1761078600@www.rncconline.org
SUMMARY:RNCC Discovering Membership Class (October 2025)
DESCRIPTION:RNCC Youth: Fun in the Sun\n				 \n				\n			\n			\n				\n				\n				\n				\n				\n				\n				\n				\n				\n				RNCC is good ground and we would like for you to be the newest member of our family! If you’d like to learn more about us\, join the Discovering Membership class on Tuesday\, Oct. 21 at 7pm.This virtual session will equip you with the information you need to be a part of Raleigh North Christian Center. \n📅 Tuesday Oct. 21 \n⏰ 7 PM 📍 Virtual \n  \n			\n				ACCESS CLASS
URL:https://www.rncconline.org/event/rncc-discovering-membership-class-october-2025/
CATEGORIES:RNCC
ATTACH;FMTTYPE=image/jpeg:https://www.rncconline.org/wp-content/uploads/2025/10/Discovering-membership-New-Screen-10.21.25.jpg
ORGANIZER;CN="RNCC":MAILTO:noreply@theme-fusion.com
END:VEVENT
BEGIN:VEVENT
DTSTART;TZID=America/New_York:20251026T083000
DTEND;TZID=America/New_York:20251026T133000
DTSTAMP:20260421T111441
CREATED:20251012T051903Z
LAST-MODIFIED:20251012T051913Z
UID:17760-1761467400-1761485400@www.rncconline.org
SUMMARY:Orange Sunday 2025
DESCRIPTION:RNCC Youth: Fun in the Sun\n				 \n				\n			\n			\n				\n				\n				\n				\n				\n				\n				\n				\n				\n				🧡 Orange Sunday is Almost Here! Join us Sunday\, October 26th for a fun\, interactive Youth Ministry Open House after both worship services hosted by our amazing RNCC Youth Department! \n✨ Discover how we’re empowering the next generation✨ Experience our engaging children’s ministry✨ See how we partner with families in faith \n👕🧢 Wear your best orange attire to show your support!
URL:https://www.rncconline.org/event/orange-sunday-2025/
CATEGORIES:Youth
ATTACH;FMTTYPE=image/jpeg:https://www.rncconline.org/wp-content/uploads/2025/10/RNCC-Orange-Sunday-2025-Screen.jpg
ORGANIZER;CN="RNCC":MAILTO:noreply@theme-fusion.com
END:VEVENT
END:VCALENDAR