BEGIN:VCALENDAR
VERSION:2.0
PRODID:-//Raleigh North Christian Center | Raleigh, North Carolina - ECPv6.15.20//NONSGML v1.0//EN
CALSCALE:GREGORIAN
METHOD:PUBLISH
X-ORIGINAL-URL:https://www.rncconline.org
X-WR-CALDESC:Events for Raleigh North Christian Center | Raleigh, North Carolina
REFRESH-INTERVAL;VALUE=DURATION:PT1H
X-Robots-Tag:noindex
X-PUBLISHED-TTL:PT1H
BEGIN:VTIMEZONE
TZID:America/New_York
BEGIN:DAYLIGHT
TZOFFSETFROM:-0500
TZOFFSETTO:-0400
TZNAME:EDT
DTSTART:20240310T070000
END:DAYLIGHT
BEGIN:STANDARD
TZOFFSETFROM:-0400
TZOFFSETTO:-0500
TZNAME:EST
DTSTART:20241103T060000
END:STANDARD
BEGIN:DAYLIGHT
TZOFFSETFROM:-0500
TZOFFSETTO:-0400
TZNAME:EDT
DTSTART:20250309T070000
END:DAYLIGHT
BEGIN:STANDARD
TZOFFSETFROM:-0400
TZOFFSETTO:-0500
TZNAME:EST
DTSTART:20251102T060000
END:STANDARD
BEGIN:DAYLIGHT
TZOFFSETFROM:-0500
TZOFFSETTO:-0400
TZNAME:EDT
DTSTART:20260308T070000
END:DAYLIGHT
BEGIN:STANDARD
TZOFFSETFROM:-0400
TZOFFSETTO:-0500
TZNAME:EST
DTSTART:20261101T060000
END:STANDARD
BEGIN:DAYLIGHT
TZOFFSETFROM:-0500
TZOFFSETTO:-0400
TZNAME:EDT
DTSTART:20270314T070000
END:DAYLIGHT
BEGIN:STANDARD
TZOFFSETFROM:-0400
TZOFFSETTO:-0500
TZNAME:EST
DTSTART:20271107T060000
END:STANDARD
END:VTIMEZONE
BEGIN:VEVENT
DTSTART;VALUE=DATE:20251102
DTEND;VALUE=DATE:20251208
DTSTAMP:20260419T184045
CREATED:20251102T012330Z
LAST-MODIFIED:20251102T012337Z
UID:17786-1762041600-1765151999@www.rncconline.org
SUMMARY:RNCC Outreach Angel Tree Toy Drive
DESCRIPTION:RNCC Youth: Fun in the Sun\n				 \n				\n			\n			\n				\n				\n				\n				\n				\n				\n				\n				\n				\n				Tis’ the season to give! Join our Annual Toy Drive for Wilburn Elementary. Let’s make this Christmas bright for our community! \n📅 Nov 9–Dec 7 \nHere’s how you can help: \n1. Grab an ornament off of the angel tree in the foyer.2. Shop for the children listed on your ornament.3. Return your NEW\, unwrapped gifts to the boxes in the foyer by Monday\, December 7th. \nQuestions? Email outreach@rncconline.org. Let’s share generosity\, love\, and Christmas spirit! \n  \n 
URL:https://www.rncconline.org/event/rncc-outreach-angel-tree-toy-drive/
CATEGORIES:Outreach
ATTACH;FMTTYPE=image/png:https://www.rncconline.org/wp-content/uploads/2025/11/RNCC-Toy-Drive-Screen.png
ORGANIZER;CN="RNCC":MAILTO:noreply@theme-fusion.com
END:VEVENT
BEGIN:VEVENT
DTSTART;TZID=America/New_York:20251205T190000
DTEND;TZID=America/New_York:20251205T220000
DTSTAMP:20260419T184045
CREATED:20251102T135329Z
LAST-MODIFIED:20251118T155322Z
UID:17788-1764961200-1764972000@www.rncconline.org
SUMMARY:S.O.A.R Women's Christmas Social
DESCRIPTION:RNCC Youth: Fun in the Sun\n				 \n				\n			\n			\n				\n				\n				\n				\n				\n				\n				\n				\n				\n				REGISTRATION IS CLOSED! THIS EVENT IS SOLD OUT! 
URL:https://www.rncconline.org/event/s-o-a-r-womens-christmas-social/
CATEGORIES:RNCC
ATTACH;FMTTYPE=image/png:https://www.rncconline.org/wp-content/uploads/2025/11/SOAR-Christmas-SOcial-2025-Screen-1.png
ORGANIZER;CN="RNCC":MAILTO:noreply@theme-fusion.com
END:VEVENT
BEGIN:VEVENT
DTSTART;TZID=America/New_York:20251210T190000
DTEND;TZID=America/New_York:20251214T133000
DTSTAMP:20260419T184045
CREATED:20251130T003204Z
LAST-MODIFIED:20251130T003214Z
UID:17889-1765393200-1765719000@www.rncconline.org
SUMMARY:Hope for the Holidays (Hosted by RNCC's Mental Wellness Ministry)
DESCRIPTION:RNCC Youth: Fun in the Sun\n				 \n				\n			\n			\n				\n				\n				\n				\n				\n				\n				\n				\n				\n				At RNCC\, we believe God wants you healthy and thriving mentally\, emotionally\, and spiritually.  \nStop by the RNCC Mental Wellness Ministry table in the foyer for treats\, helpful tips\, and encouraging support ❤️ to help you navigate the holiday season with peace and balance. \nFoyer Table Days:📅 Wednesday December 10th📅 Sunday December 14th \nWe’re here to support you this season! 
URL:https://www.rncconline.org/event/hope-for-the-holidays-hosted-by-rnccs-mental-wellness-ministry/
CATEGORIES:RNCC
ATTACH;FMTTYPE=image/png:https://www.rncconline.org/wp-content/uploads/2025/11/RNCC-Hope-for-the-Holidays-Screen.png
ORGANIZER;CN="RNCC":MAILTO:noreply@theme-fusion.com
END:VEVENT
BEGIN:VEVENT
DTSTART;TZID=America/New_York:20251231T190000
DTEND;TZID=America/New_York:20260101T000000
DTSTAMP:20260419T184045
CREATED:20251207T140600Z
LAST-MODIFIED:20251207T141016Z
UID:17901-1767207600-1767225600@www.rncconline.org
SUMMARY:NYE @ RNCC
DESCRIPTION:RNCC Youth: Fun in the Sun\n				 \n				\n			\n			\n				\n				\n				\n				\n				\n				\n				\n				\n				\n				Ready to start your New Year right? Celebrate New Year’s Eve at Raleigh North as we bring in 2026 together! \nJoin us Wednesday\, Dec. 31 for one of our two services — 7 PM or 10 PM. Get ready for powerful worship\, a life-changing word from Dr. Chapman\, and vision for the year ahead. After the 10 PM service\, enjoy food trucks as we count down to the new year! \nPlease note: No childcare for either service!
URL:https://www.rncconline.org/event/nye-rncc/
CATEGORIES:Music
ATTACH;FMTTYPE=image/jpeg:https://www.rncconline.org/wp-content/uploads/2025/12/RNCC-NYE26.jpg
ORGANIZER;CN="RNCC":MAILTO:noreply@theme-fusion.com
END:VEVENT
END:VCALENDAR